BEGIN:VCALENDAR
VERSION:2.0
PRODID:-//Caraga State University — Competence, Service, and Uprightness - ECPv6.15.20//NONSGML v1.0//EN
CALSCALE:GREGORIAN
METHOD:PUBLISH
X-WR-CALNAME:Caraga State University — Competence, Service, and Uprightness
X-ORIGINAL-URL:https://www.carsu.edu.ph
X-WR-CALDESC:Events for Caraga State University — Competence, Service, and Uprightness
REFRESH-INTERVAL;VALUE=DURATION:PT1H
X-Robots-Tag:noindex
X-PUBLISHED-TTL:PT1H
BEGIN:VTIMEZONE
TZID:Asia/Manila
BEGIN:STANDARD
TZOFFSETFROM:+0800
TZOFFSETTO:+0800
TZNAME:PST
DTSTART:20240101T000000
END:STANDARD
END:VTIMEZONE
BEGIN:VEVENT
DTSTART;VALUE=DATE:20250825
DTEND;VALUE=DATE:20250826
DTSTAMP:20260425T044627
CREATED:20250708T021405Z
LAST-MODIFIED:20250708T021405Z
UID:25071-1756080000-1756166399@www.carsu.edu.ph
SUMMARY:National Heroes Day (Regular Holiday)
DESCRIPTION:
URL:https://www.carsu.edu.ph/university-calendar/national-heroes-day-regular-holiday/
LOCATION:Caraga State University\, Ampayon\, Butuan City\, Philippines\, Butuan City\, Agusan Del Norte\, 8600\, Philippines
CATEGORIES:Holidays
END:VEVENT
BEGIN:VEVENT
DTSTART;VALUE=DATE:20250821
DTEND;VALUE=DATE:20250822
DTSTAMP:20260425T044627
CREATED:20250708T021342Z
LAST-MODIFIED:20250708T021342Z
UID:25067-1755734400-1755820799@www.carsu.edu.ph
SUMMARY:Ninoy Aquino Day (Special Non-working Day)
DESCRIPTION:
URL:https://www.carsu.edu.ph/university-calendar/ninoy-aquino-day-special-non-working-day/
LOCATION:Caraga State University\, Ampayon\, Butuan City\, Philippines\, Butuan City\, Agusan Del Norte\, 8600\, Philippines
CATEGORIES:Holidays
END:VEVENT
BEGIN:VEVENT
DTSTART;VALUE=DATE:20250802
DTEND;VALUE=DATE:20250803
DTSTAMP:20260425T044627
CREATED:20250708T021222Z
LAST-MODIFIED:20250708T021222Z
UID:25056-1754092800-1754179199@www.carsu.edu.ph
SUMMARY:Adlaw Hong Butuan (for CSU Main Campus only)
DESCRIPTION:
URL:https://www.carsu.edu.ph/university-calendar/adlaw-hong-butuan-for-csu-main-campus-only/
LOCATION:Caraga State University\, Ampayon\, Butuan City\, Philippines\, Butuan City\, Agusan Del Norte\, 8600\, Philippines
CATEGORIES:Holidays
END:VEVENT
END:VCALENDAR