BEGIN:VCALENDAR
VERSION:2.0
PRODID:-//Caraga State University — Competence, Service, and Uprightness - ECPv6.15.20//NONSGML v1.0//EN
CALSCALE:GREGORIAN
METHOD:PUBLISH
X-ORIGINAL-URL:https://www.carsu.edu.ph
X-WR-CALDESC:Events for Caraga State University — Competence, Service, and Uprightness
REFRESH-INTERVAL;VALUE=DURATION:PT1H
X-Robots-Tag:noindex
X-PUBLISHED-TTL:PT1H
BEGIN:VTIMEZONE
TZID:Asia/Manila
BEGIN:STANDARD
TZOFFSETFROM:+0800
TZOFFSETTO:+0800
TZNAME:PST
DTSTART:20240101T000000
END:STANDARD
END:VTIMEZONE
BEGIN:VEVENT
DTSTART;VALUE=DATE:20251117
DTEND;VALUE=DATE:20251118
DTSTAMP:20260425T075813
CREATED:20251104T010637Z
LAST-MODIFIED:20251104T053753Z
UID:43140-1763337600-1763423999@www.carsu.edu.ph
SUMMARY:PASIDUNGOG 2025
DESCRIPTION:The university’s annual recognition of personnel excellence\, dedication\, and service is here! Celebrate with us on November 17\,2025 for the PASIDUNGOG\, the university’s Program on Awards and Incentives for Service Excellence (PRAISE).
URL:https://www.carsu.edu.ph/university-calendar/pasidungog-2025/
LOCATION:LMX Convention Butuan\, Butuan City\, Philippines
CATEGORIES:University Events
ATTACH;FMTTYPE=image/png:https://www.carsu.edu.ph/wp-content/uploads/2025/11/For-Website.webp
ORGANIZER;CN="Caraga State University":MAILTO:op@carsu.edu.ph
END:VEVENT
BEGIN:VEVENT
DTSTART;TZID=Asia/Manila:20250930T170000
DTEND;TZID=Asia/Manila:20250930T210000
DTSTAMP:20260425T075813
CREATED:20250926T073325Z
LAST-MODIFIED:20250929T030902Z
UID:40854-1759251600-1759266000@www.carsu.edu.ph
SUMMARY:State of the University Address 2025
DESCRIPTION:
URL:https://www.carsu.edu.ph/university-calendar/state-of-the-university-address-2025/
LOCATION:Caraga State University\, Ampayon\, Butuan City\, Philippines\, Butuan City\, Agusan Del Norte\, 8600\, Philippines
CATEGORIES:University Events
ATTACH;FMTTYPE=image/png:https://www.carsu.edu.ph/wp-content/uploads/2025/09/SUnA-2025-Website-cover-1-scaled.webp
ORGANIZER;CN="Caraga State University":MAILTO:op@carsu.edu.ph
END:VEVENT
BEGIN:VEVENT
DTSTART;VALUE=DATE:20250930
DTEND;VALUE=DATE:20251001
DTSTAMP:20260425T075813
CREATED:20250708T021435Z
LAST-MODIFIED:20250708T021435Z
UID:25074-1759190400-1759276799@www.carsu.edu.ph
SUMMARY:Suggested CSU Family Day Celebration
DESCRIPTION:
URL:https://www.carsu.edu.ph/university-calendar/suggested-csu-family-day-celebration/
LOCATION:Caraga State University\, Ampayon\, Butuan City\, Philippines\, Butuan City\, Agusan Del Norte\, 8600\, Philippines
CATEGORIES:University Events
END:VEVENT
BEGIN:VEVENT
DTSTART;VALUE=DATE:20250816
DTEND;VALUE=DATE:20250817
DTSTAMP:20260425T075813
CREATED:20250708T021318Z
LAST-MODIFIED:20250708T021318Z
UID:25063-1755302400-1755388799@www.carsu.edu.ph
SUMMARY:Commemoration of Proclamation No. 239
DESCRIPTION:Commemoration of Proclamation No. 239 Signed by Pres. Benigno Simeon Aquino III (Amending Proclamation No. 4 (s. 1920) which Reserved Certain Parcels of Land in Ampayon\, Butuan City for School Site Purposes\, by Granting Ownership Thereof to Caraga State University (CSU) by Virtue of Republic Act (RA) No. 9854
URL:https://www.carsu.edu.ph/university-calendar/commemoration-of-proclamation-no-239/
LOCATION:Caraga State University\, Ampayon\, Butuan City\, Philippines\, Butuan City\, Agusan Del Norte\, 8600\, Philippines
CATEGORIES:University Events
END:VEVENT
BEGIN:VEVENT
DTSTART;VALUE=DATE:20250721
DTEND;VALUE=DATE:20250726
DTSTAMP:20260425T075813
CREATED:20250715T004737Z
LAST-MODIFIED:20250715T005251Z
UID:26636-1753056000-1753487999@www.carsu.edu.ph
SUMMARY:MEDICINE WEEK (Launching of the School of Medicine)
DESCRIPTION:This MEDICINE WEEK – is a week-long kickoff event\, to announce the opening of the MD program. Subsequently\, this will become an annual event to welcome the new students and promote camaraderie among key stakeholders.\n \nObjectives \n\nIntroduce the MD program and the school to its stakeholders.\nPresent the roadmap of the MD program and future plans of School of Medicine.\nIntroduce the research agenda and extension services of School of Medicine.\nIntroduce the academic staff (and incoming students).\nBuild stronger linkage and partnership with key stakeholders and institutions.
URL:https://www.carsu.edu.ph/university-calendar/medicine-week-launching-of-the-school-of-medicine/
LOCATION:Caraga State University\, Ampayon\, Butuan City\, Philippines\, Butuan City\, Agusan Del Norte\, 8600\, Philippines
CATEGORIES:University Events
ATTACH;FMTTYPE=image/jpeg:https://www.carsu.edu.ph/wp-content/uploads/2025/07/SoM-Medicine-Week-2025.webp
ORGANIZER;CN="School of Medicine":MAILTO:som@carsu.edu.ph
END:VEVENT
BEGIN:VEVENT
DTSTART;TZID=Asia/Manila:20250421T080000
DTEND;TZID=Asia/Manila:20250421T120000
DTSTAMP:20260425T075813
CREATED:20250213T073344Z
LAST-MODIFIED:20250225T014906Z
UID:12573-1745222400-1745236800@www.carsu.edu.ph
SUMMARY:Commemoration of Proclamation No. 4
DESCRIPTION:About the Event \nTomorrow\, February 14\, the university commemorates Proclamation No. 4 issued by then-American Governor-General of the Philippines\, Francis Burton Harrison\, in 1920. This declared the 232-hectare virgin forest land reserve in Barrio Ampayon\, Municipality of Butuan\, Agusan del Norte\, as the site of the then Agusan Agriculture High School (AAHS)\, now known as Caraga State University. \nFollowing the short commemoration activity in the morning\, classes and work on both campuses will be suspended from 12:00 noon onwards\, as mandated by OP Memorandum No. 48\, s. 2025.
URL:https://www.carsu.edu.ph/university-calendar/commemoration-of-proclamation-no-4/
LOCATION:Caraga State University\, Ampayon\, Butuan City\, Philippines\, Butuan City\, Agusan Del Norte\, 8600\, Philippines
CATEGORIES:University Events
ATTACH;FMTTYPE=image/png:https://www.carsu.edu.ph/wp-content/uploads/2025/02/Commemoration-of-Proc.-No.-4.png
ORGANIZER;CN="Caraga State University":MAILTO:op@carsu.edu.ph
END:VEVENT
END:VCALENDAR